BEGIN:VCALENDAR
VERSION:2.0
PRODID:-//AIDIS - ECPv6.7.0//NONSGML v1.0//EN
CALSCALE:GREGORIAN
METHOD:PUBLISH
X-ORIGINAL-URL:https://aidisnet.org
X-WR-CALDESC:Events for AIDIS
REFRESH-INTERVAL;VALUE=DURATION:PT1H
X-Robots-Tag:noindex
X-PUBLISHED-TTL:PT1H
BEGIN:VTIMEZONE
TZID:America/Sao_Paulo
BEGIN:STANDARD
TZOFFSETFROM:-0200
TZOFFSETTO:-0300
TZNAME:-03
DTSTART:20190217T020000
END:STANDARD
END:VTIMEZONE
BEGIN:VEVENT
DTSTART;TZID=America/Sao_Paulo:20191129T130000
DTEND;TZID=America/Sao_Paulo:20191129T180000
DTSTAMP:20260423T124803
CREATED:20191017T152627Z
LAST-MODIFIED:20191126T205701Z
UID:3998-1575032400-1575050400@aidisnet.org
SUMMARY:23º ETAN – Encuentro Técnico de Alto Nivel de AIDIS: "Descontaminación del Río Pinheiros"
DESCRIPTION:23 ETAN\n===> INSCRIPCIONES <=== \n 
URL:https://aidisnet.org/event/23-etan/
ATTACH;FMTTYPE=image/png:https://aidisnet.org/wp-content/uploads/2019/10/23_ETAN.png
END:VEVENT
END:VCALENDAR