BEGIN:VCALENDAR
VERSION:2.0
PRODID:-//AIDIS - ECPv6.7.0//NONSGML v1.0//EN
CALSCALE:GREGORIAN
METHOD:PUBLISH
X-WR-CALNAME:AIDIS
X-ORIGINAL-URL:https://aidisnet.org
X-WR-CALDESC:Events for AIDIS
REFRESH-INTERVAL;VALUE=DURATION:PT1H
X-Robots-Tag:noindex
X-PUBLISHED-TTL:PT1H
BEGIN:VTIMEZONE
TZID:America/Sao_Paulo
BEGIN:STANDARD
TZOFFSETFROM:-0300
TZOFFSETTO:-0300
TZNAME:-03
DTSTART:20240101T000000
END:STANDARD
END:VTIMEZONE
BEGIN:VEVENT
DTSTART;VALUE=DATE:20241124
DTEND;VALUE=DATE:20241128
DTSTAMP:20260423T172654
CREATED:20240308T152357Z
LAST-MODIFIED:20241121T114942Z
UID:10259-1732406400-1732751999@aidisnet.org
SUMMARY:XXXIX Congreso Interamericano de Ingeniería Sanitaria y Ambiental
DESCRIPTION:La Asociación Interamericana de Ingeniería Sanitaria y Ambiental – AIDIS\, realizará del 24 al 27 de noviembre de 2024 en la ciudad de Lima\, Perú\, su Congreso Bienal y Feria de Exposiciones en el prestigioso Centro de Convenciones de la Sociedad Nacional de Industrias. \n\n LOS DESAFÍOS EN AMÉRICA LATINA EN EL SECTOR AGUA Y SANEAMIENTO\n\n\nCumplimiento de los Objetivos de Desarrollo Sostenible\nDesafíos pendientes en reducción de brechas\nEl agua como un derecho humano\nEl recurso agua en el sector urbano y rural\nLos efectos del cambio climático\nLa salud pública y sus nuevos desafíos\nLa seguridad hídrica\n\n\n LOS MODELOS DE ORGANIZACIÓN\n\n\nLa participación de las comunidades\nLa inversión y formas de financiamiento\nNormas técnicas\, tecnologías y sus aplicaciones\nExperiencias\, innovaciones y tendencias\nModalidades para la operación de los servicios\nGobernanza del sector A & S\n\n\n LA GESTIÓN EFICIENTE: LA SOSTENIBILIDAD DE LOS SERVICIOS\n\n\nModelos de gestión para administrar\, operar y mantenerlos servicios\nAdaptabilidad de los modelos a las distintas culturas\nLa participación de la mujer en la Ingeniería Sanitaria y Ambiental\nRegulación\, control y fiscalización de los servicios\nAlianzas gobierno-comunidad-municipio-empresa\nPrevención y mitigación de los efectos en los servicios por desastres naturales\nDesarrollo\, manejo y registro de indicadores de la gestión de los servicios\nSostenibilidad de los sistemas en las áreas operativas de las EPS’s\nGestión de residuos sólidos\nEconomía circular\n\n\n CAMBIO CLIMÁTICO: ACCIONES DE MITIGACIÓN Y ADAPTACIÓN\n\n\nTransición Energética\nAcciones ciudadanas sobre el clima\nEfectos del Cambio Climático sobre la salud humana\nLas mujeres como líderes climáticas\nRol de los jóvenes frente al Cambio Climático\nResiliencia frente al Cambio Climático\nBiodiversidad y Sistema Climático\nCiudades y comunidades sostenibles\nPolíticas y planes integrados para la mitigación y adaptación del cambio climático\nEducación Ambiental para la Mitigación y Adaptación frente al cambio climático\nEficiencia en el uso de recursos para hacer frente al cambio climático\nModelos de Gobernanza para hacer frente al cambio climático\nDescarbonización.\n\n>>> INSCRIPCIÓN AL EVENTO <<<\n \n>>> INSCRIPCIÓN AL EVENTO <<<\n 
URL:https://aidisnet.org/event/xxxix-congreso-interamericano-de-ingenieria-sanitaria-y-ambiental/
ATTACH;FMTTYPE=image/png:https://aidisnet.org/wp-content/uploads/2024/03/39-CONGRESO-AIDIS.png
END:VEVENT
END:VCALENDAR